BEGIN:VCALENDAR
VERSION:2.0
PRODID:-//Event Calendar//JP//
CALSCALE:GREGORIAN
BEGIN:VEVENT
UID:event-calendar-14@osaka.local-navi.jp
DTSTAMP:20260425T233010Z
DTSTART:20260501T003000Z
DTEND:20260505T093000Z
SUMMARY:【2026年5月1日開幕】はらぺこサーカス 2026を迷わず楽しむ回り方
DESCRIPTION:【2026年5月1日】はらぺこサーカス 2026はどう回ると満足度が高い？ラーメンとスイーツを楽しむ来場前チェック はらぺこサーカス 2026に行くなら、先に「&hellip\;
LOCATION:大阪府大阪市鶴見区緑地公園2-163
URL:https://osaka.local-navi.jp/event/14/
END:VEVENT
END:VCALENDAR
