BEGIN:VCALENDAR
VERSION:2.0
PRODID:-//Event Calendar//JP//
CALSCALE:GREGORIAN
BEGIN:VEVENT
UID:event-calendar-15@osaka.local-navi.jp
DTSTAMP:20260425T233009Z
DTSTART:20260503T010000Z
DTEND:20260505T060000Z
SUMMARY:【2026年5月3日】中之島まつり2026の屋台と遊び場を家族で無理なく回るコツ
DESCRIPTION:中之島まつり2026は家族でどう回る？屋台・子ども遊び・バラ園をまとめて楽しむGWガイド 中之島まつり2026で屋台を楽しみたいものの、会場が広そうで子ども連れ&hellip\;
LOCATION:大阪市北区中之島1
URL:https://osaka.local-navi.jp/event/15/
END:VEVENT
END:VCALENDAR
