BEGIN:VCALENDAR
VERSION:2.0
PRODID:-//Event Calendar//JP//
CALSCALE:GREGORIAN
BEGIN:VEVENT
UID:event-calendar-16@osaka.local-navi.jp
DTSTAMP:20260425T231806Z
DTSTART:20260502T020000Z
DTEND:20260504T080000Z
SUMMARY:【Hawaii Festival OSAKA 2026】2026年5月2日開幕 なんばで楽しむ見どころと向いている人
DESCRIPTION:Hawaii Festival OSAKA 2026はどんなイベント 5月2日からなんばで楽しむ見どころと回り方 Hawaii Festival OSAKA 2&hellip\;
LOCATION:大阪府大阪市浪速区湊町1-3-1
URL:https://osaka.local-navi.jp/event/16/
END:VEVENT
END:VCALENDAR
