BEGIN:VCALENDAR
VERSION:2.0
PRODID:-//Event Calendar//JP//
CALSCALE:GREGORIAN
BEGIN:VEVENT
UID:event-calendar-17@osaka.local-navi.jp
DTSTAMP:20260425T232907Z
DTSTART:20260502T040000Z
DTEND:20260506T110000Z
SUMMARY:【2026年5月2日開幕】クラフト餃子フェス 大阪 2026で迷わない回り方と注目メニュー
DESCRIPTION:【2026年5月2日開幕】クラフト餃子フェス 大阪 2026で迷わない回り方と注目メニュー クラフト餃子フェス 大阪 2026に行く前に知っておきたいのは、今年&hellip\;
LOCATION:大阪府大阪市中央区大阪城3
URL:https://osaka.local-navi.jp/event/17/
END:VEVENT
END:VCALENDAR
