BEGIN:VCALENDAR
VERSION:2.0
PRODID:-//Event Calendar//JP//
CALSCALE:GREGORIAN
BEGIN:VEVENT
UID:event-calendar-18@osaka.local-navi.jp
DTSTAMP:20260425T231818Z
DTSTART:20260424T003000Z
DTEND:20260426T073000Z
SUMMARY:【ロハスフェスタ万博2026春 4月25日・26日】子連れで行く前に知りたい駐車場と持ち物
DESCRIPTION:【4月25日・26日】ロハスフェスタ万博2026春を子連れで楽しむコツ 駐車場・持ち物・遊び場まとめ ロハスフェスタ万博2026春に子連れで行きたい方に向けて、&hellip\;
LOCATION:大阪府吹田市千里万博公園1-1
URL:https://osaka.local-navi.jp/event/18/
END:VEVENT
END:VCALENDAR
