BEGIN:VCALENDAR
VERSION:2.0
PRODID:-//Event Calendar//JP//
CALSCALE:GREGORIAN
BEGIN:VEVENT
UID:event-calendar-19@osaka.local-navi.jp
DTSTAMP:20260425T231806Z
DTSTART:20260503T150000Z
DTEND:20260506T145959Z
SUMMARY:【Good Times Good People 2026】5月4日から6日に岸和田WHATAWONで自分に合うGWフェスの日を選ぶ
DESCRIPTION:Good Times Good People 2026｜5月4日から6日まで岸和田WHATAWONで楽しむGWフェスはどの日を選ぶべきか Good Times &hellip\;
LOCATION:大阪府岸和田市岸の丘町1-32-1
URL:https://osaka.local-navi.jp/event/19/
END:VEVENT
END:VCALENDAR
