BEGIN:VCALENDAR
VERSION:2.0
PRODID:-//Event Calendar//JP//
CALSCALE:GREGORIAN
BEGIN:VEVENT
UID:event-calendar-20@osaka.local-navi.jp
DTSTAMP:20260425T232908Z
DTSTART:20260411T000000Z
DTEND:20260510T093000Z
SUMMARY:【4月25日・26日】ネモフィラ祭り2026の混雑回避は到着逆算で決める
DESCRIPTION:【4月25日・26日】ネモフィラ祭り2026の混雑回避は何時に着くべきか 到着逆算で選ぶアクセス術 ネモフィラ祭り2026へ4月25日・26日に行くなら、重要な&hellip\;
LOCATION:大阪市此花区北港緑地2丁目
URL:https://osaka.local-navi.jp/event/20/
END:VEVENT
END:VCALENDAR
