BEGIN:VCALENDAR
VERSION:2.0
PRODID:-//Event Calendar//JP//
CALSCALE:GREGORIAN
BEGIN:VEVENT
UID:event-calendar-21@osaka.local-navi.jp
DTSTAMP:20260425T230649Z
DTSTART:20260503T010000Z
DTEND:20260505T060000Z
SUMMARY:【第24回中之島映画祭 2026年5月3日〜5日】中之島まつり2026で映画祭と屋台とフリマを1日で楽しむ回り方
DESCRIPTION:【第24回中之島映画祭】中之島まつり2026で映画祭と屋台、フリマを1日で楽しむ回り方 中之島まつり2026で映画祭も屋台もフリマも気になるものの、会場が広くて&hellip\;
LOCATION:大阪市北区
URL:https://osaka.local-navi.jp/event/21/
END:VEVENT
END:VCALENDAR
