BEGIN:VCALENDAR
VERSION:2.0
PRODID:-//Event Calendar//JP//
CALSCALE:GREGORIAN
BEGIN:VEVENT
UID:event-calendar-22@osaka.local-navi.jp
DTSTAMP:20260425T231013Z
DTSTART:20260425T080000Z
DTEND:20260426T070000Z
SUMMARY:【Q's FAMILY DISCO 2026 4月25日・26日】どっちに行くべき？あべのキューズモール15周年の無料イベントを比較
DESCRIPTION:【Q's FAMILY DISCO 2026】4月25日・26日はどっちに行くべき？あべのキューズモール15周年の無料イベント比較 Q's FAMILY DIS&hellip\;
LOCATION:大阪市阿倍野区阿倍野筋1-6-1
URL:https://osaka.local-navi.jp/event/22/
END:VEVENT
END:VCALENDAR
