BEGIN:VCALENDAR
VERSION:2.0
PRODID:-//Event Calendar//JP//
CALSCALE:GREGORIAN
BEGIN:VEVENT
UID:event-calendar-33@osaka.local-navi.jp
DTSTAMP:20260425T231015Z
DTSTART:20260425T020000Z
DTEND:20260426T070000Z
SUMMARY:【2026春の露地庭市】4月25日・26日にキタの北ナガヤで楽しむ中津の週末マルシェ
DESCRIPTION:【2026春の露地庭市】キタの北ナガヤ露地庭市2026は4月25日・26日開催 中津の長屋を歩いて楽しむ週末マルシェ キタの北ナガヤ 露地庭市 2026が気にな&hellip\;
LOCATION:大阪市北区中津3丁目17-12
URL:https://osaka.local-navi.jp/event/33/
END:VEVENT
END:VCALENDAR
