BEGIN:VCALENDAR
VERSION:2.0
PRODID:-//Event Calendar//JP//
CALSCALE:GREGORIAN
BEGIN:VEVENT
UID:event-calendar-34@osaka.local-navi.jp
DTSTAMP:20260425T231114Z
DTSTART:20260502T010000Z
DTEND:20260503T080000Z
SUMMARY:【ペット王国2026 2026年5月2日・3日】犬連れで行ける？京セラドーム大阪で失敗しない回り方
DESCRIPTION:【2026年5月2日・3日】ペット王国2026は犬を連れて行ける？京セラドーム大阪で失敗しない回り方 ペット王国2026に犬を連れて行けるのか、必要書類は何か、&hellip\;
LOCATION:大阪市西区千代崎3丁目
URL:https://osaka.local-navi.jp/event/34/
END:VEVENT
END:VCALENDAR
