BEGIN:VCALENDAR
VERSION:2.0
PRODID:-//Event Calendar//JP//
CALSCALE:GREGORIAN
BEGIN:VEVENT
UID:event-calendar-36@osaka.local-navi.jp
DTSTAMP:20260425T232223Z
DTSTART:20260425T010000Z
DTEND:20260426T060000Z
SUMMARY:【安満遺跡公園フリーマーケット2026 4月25日・26日】子連れで半日過ごせるかをアクセス・駐車場・遊び場から確認
DESCRIPTION:【高槻】安満遺跡公園フリーマーケット2026年4月25日・26日｜子連れで行く前に確認したいアクセス・駐車場・園内の過ごし方 安満遺跡公園フリーマーケット202&hellip\;
LOCATION:大阪府高槻市八丁畷町12番3号
URL:https://osaka.local-navi.jp/event/36/
END:VEVENT
END:VCALENDAR
