BEGIN:VCALENDAR
VERSION:2.0
PRODID:-//Event Calendar//JP//
CALSCALE:GREGORIAN
BEGIN:VEVENT
UID:event-calendar-37@osaka.local-navi.jp
DTSTAMP:20260425T232206Z
DTSTART:20260502T003000Z
DTEND:20260506T073000Z
SUMMARY:【2026年4月24日】ロハスフェスタ万博2026春でSDGs体験を深める準備
DESCRIPTION:【ロハスフェスタ万博2026春】2026年4月24日開幕 20周年で注目したいSDGs体験と来場前の準備 ロハスフェスタ万博2026春は、買い物イベントとして楽&hellip\;
LOCATION:大阪府吹田市千里万博公園
URL:https://osaka.local-navi.jp/event/37/
END:VEVENT
END:VCALENDAR
