BEGIN:VCALENDAR
VERSION:2.0
PRODID:-//Event Calendar//JP//
CALSCALE:GREGORIAN
BEGIN:VEVENT
UID:event-calendar-38@osaka.local-navi.jp
DTSTAMP:20260425T232902Z
DTSTART:20260502T003000Z
DTEND:20260506T073000Z
SUMMARY:【ロハスフェスタ万博2026春】2026年4月24日開幕 20周年で注目したいSDGs体験と来場前の準備
DESCRIPTION:ロハスフェスタ万博2026春は何がSDGs体験になる？20周年イベントの楽しみ方ガイド ロハスフェスタ万博2026春は、買い物イベントとして楽しむだけでなく、来&hellip\;
LOCATION:大阪府吹田市千里万博公園
URL:https://osaka.local-navi.jp/event/38/
END:VEVENT
END:VCALENDAR
