BEGIN:VCALENDAR
VERSION:2.0
PRODID:-//Event Calendar//JP//
CALSCALE:GREGORIAN
BEGIN:VEVENT
UID:event-calendar-41@osaka.local-navi.jp
DTSTAMP:20260425T231014Z
DTSTART:20260418T003000Z
DTEND:20260426T080000Z
SUMMARY:【4月25日・26日】万博記念公園 藤まつり 2026で見頃を逃さず混雑を避ける回り方
DESCRIPTION:【4月25日・26日】万博記念公園 藤まつり 2026で見頃を逃さず混雑を避ける回り方 万博記念公園 藤まつり 2026に行くなら、今年は藤の見頃だけでなく、公&hellip\;
LOCATION:大阪府吹田市千里万博公園1-1
URL:https://osaka.local-navi.jp/event/41/
END:VEVENT
END:VCALENDAR
