BEGIN:VCALENDAR
VERSION:2.0
PRODID:-//Event Calendar//JP//
CALSCALE:GREGORIAN
BEGIN:VEVENT
UID:event-calendar-48@osaka.local-navi.jp
DTSTAMP:20260425T231115Z
DTSTART:20260501T150000Z
DTEND:20260502T150000Z
SUMMARY:【2026年5月2日・3日】にゃんこ博覧会2026 大阪はアーリーチケットが必要か見極める
DESCRIPTION:【2026年5月2日・3日】にゃんこ博覧会2026 大阪はアーリーチケットが必要かを見極める にゃんこ博覧会2026 大阪に行くか迷っているなら、まず確認したい&hellip\;
LOCATION:大阪市北区大深町3-1
URL:https://osaka.local-navi.jp/event/48/
END:VEVENT
END:VCALENDAR
