BEGIN:VCALENDAR
VERSION:2.0
PRODID:-//Event Calendar//JP//
CALSCALE:GREGORIAN
BEGIN:VEVENT
UID:event-calendar-50@osaka.local-navi.jp
DTSTAMP:20260425T233015Z
DTSTART:20260331T150000Z
DTEND:20260505T150000Z
SUMMARY:【2026年4月1日〜5月6日】阪急電車フェスティバル2026を子連れで楽しむ無料体験と応募イベントの回り方
DESCRIPTION:【阪急電車フェスティバル2026】2026年GWに阪急電車フェスティバル2026を子連れで回る順番と準備 2026年のゴールデンウィークに梅田で子どもと出かける&hellip\;
LOCATION:大阪市北区芝田1-1-3
URL:https://osaka.local-navi.jp/event/50/
END:VEVENT
END:VCALENDAR
