BEGIN:VCALENDAR
VERSION:2.0
PRODID:-//Event Calendar//JP//
CALSCALE:GREGORIAN
BEGIN:VEVENT
UID:event-calendar-51@osaka.local-navi.jp
DTSTAMP:20260425T232222Z
DTSTART:20260425T010000Z
DTEND:20260426T070000Z
SUMMARY:【2026年4月25日・26日】ワンタイムマルシェ大阪へ愛犬と行く前に知りたい回り方と準備
DESCRIPTION:【2026年4月25日・26日】初参加でも迷わない ワンタイムマルシェ大阪2026を愛犬と楽しむ回り方ガイド ワンタイムマルシェ大阪2026に愛犬を連れて行こう&hellip\;
LOCATION:大阪府大東市深野北4丁目284
URL:https://osaka.local-navi.jp/event/51/
END:VEVENT
END:VCALENDAR
