BEGIN:VCALENDAR
VERSION:2.0
PRODID:-//Event Calendar//JP//
CALSCALE:GREGORIAN
BEGIN:VEVENT
UID:event-calendar-52@osaka.local-navi.jp
DTSTAMP:20260425T231013Z
DTSTART:20260426T010000Z
DTEND:20260426T070000Z
SUMMARY:【2026年4月26日開催 ねやがわJOYJOYフェスタ】子連れで行ける？駐車場と行く時間の判断材料を整理
DESCRIPTION:【2026年4月26日開催 ねやがわJOYJOYフェスタ】子連れで行ける？駐車場と行く時間の判断材料を整理 ねやがわJOYJOYフェスタ 2026 に行こうか迷&hellip\;
LOCATION:大阪府寝屋川市初町2
URL:https://osaka.local-navi.jp/event/52/
END:VEVENT
END:VCALENDAR
