BEGIN:VCALENDAR
VERSION:2.0
PRODID:-//Event Calendar//JP//
CALSCALE:GREGORIAN
BEGIN:VEVENT
UID:event-calendar-53@osaka.local-navi.jp
DTSTAMP:20260425T231013Z
DTSTART:20260504T000000Z
DTEND:20260505T120000Z
SUMMARY:【OTODAMA'26】2026年5月4日・5日初参加向けアクセスと駐車場の決め方
DESCRIPTION:【OTODAMA'26】初参加で迷わない来場手段ガイド　アクセス・駐車場・持ち物・入浴順 OTODAMA'26に初めて参加するなら、出演者情報をチェックする前に&hellip\;
LOCATION:大阪府泉大津市夕凪町
URL:https://osaka.local-navi.jp/event/53/
END:VEVENT
END:VCALENDAR
