BEGIN:VCALENDAR
VERSION:2.0
PRODID:-//Event Calendar//JP//
CALSCALE:GREGORIAN
BEGIN:VEVENT
UID:event-calendar-54@osaka.local-navi.jp
DTSTAMP:20260425T233010Z
DTSTART:20260426T013000Z
DTEND:20260426T070000Z
SUMMARY:【OSAKA Italian Car Festa 2026】参加方法を徹底解説！
DESCRIPTION:【2026年4月26日】OSAKA Italian Car Festa 2026は愛車で参加するべきか 観覧で楽しむべきかを事前に見極める OSAKA Ital&hellip\;
LOCATION:大阪府羽曳野市尺度391-2
URL:https://osaka.local-navi.jp/event/54/
END:VEVENT
END:VCALENDAR
