BEGIN:VCALENDAR
VERSION:2.0
PRODID:-//Event Calendar//JP//
CALSCALE:GREGORIAN
BEGIN:VEVENT
UID:event-calendar-56@osaka.local-navi.jp
DTSTAMP:20260425T231113Z
DTSTART:20260326T150000Z
DTEND:20260509T150000Z
SUMMARY:【恐怖心展 大阪 2026年3月27日から5月10日開催】GW前に知りたい怖さの質と注意点
DESCRIPTION:【恐怖心展】大阪 2026年GW開催はどんな怖さ？行く前に相性と注意点を確認 恐怖心展 大阪 2026に興味があっても、「お化け屋敷のように驚かされるのか」「怖&hellip\;
LOCATION:大阪市北区大深町3-1
URL:https://osaka.local-navi.jp/event/56/
END:VEVENT
END:VCALENDAR
