BEGIN:VCALENDAR
VERSION:2.0
PRODID:-//Event Calendar//JP//
CALSCALE:GREGORIAN
BEGIN:VEVENT
UID:event-calendar-59@osaka.local-navi.jp
DTSTAMP:20260425T231114Z
DTSTART:20260426T013000Z
DTEND:20260426T070000Z
SUMMARY:【2026年4月26日 OSAKA Italian Car Festa 2026】愛車参加と一般来場のどちらが向くかを事前に判断する
DESCRIPTION:OSAKA Italian Car Festa 2026はどう楽しむ？愛車エントリーと一般来場の違いから考える参加ガイド OSAKA Italian Car F&hellip\;
LOCATION:大阪府羽曳野市尺度391-2
URL:https://osaka.local-navi.jp/event/59/
END:VEVENT
END:VCALENDAR
