BEGIN:VCALENDAR
VERSION:2.0
PRODID:-//Event Calendar//JP//
CALSCALE:GREGORIAN
BEGIN:VEVENT
UID:event-calendar-60@osaka.local-navi.jp
DTSTAMP:20260425T232909Z
DTSTART:20260430T150000Z
DTEND:20260508T145959Z
SUMMARY:【2026年5月1日〜8日】のざきまいりの屋台はいつまで？回り方と混雑回避のコツ
DESCRIPTION:【2026年5月1日〜8日】のざきまいり2026の屋台はいつまで？回り方と混雑回避のコツ のざきまいり2026で屋台をしっかり楽しみたいなら、屋台が出やすい日程&hellip\;
LOCATION:大阪府大東市野崎2-7-1
URL:https://osaka.local-navi.jp/event/60/
END:VEVENT
END:VCALENDAR
