BEGIN:VCALENDAR
VERSION:2.0
PRODID:-//Event Calendar//JP//
CALSCALE:GREGORIAN
BEGIN:VEVENT
UID:event-calendar-64@osaka.local-navi.jp
DTSTAMP:20260425T231015Z
DTSTART:20260425T010000Z
DTEND:20260510T080000Z
SUMMARY:【ぽよぽよ遊具フェス2026】ぽよぽよ遊具フェスティバル2026大阪6会場の料金比較と子連れの選び方
DESCRIPTION:【ぽよぽよ遊具フェス2026】大阪6会場を子連れ目線で比較 料金・開催期間・行きやすさ早見表 ぽよぽよ遊具フェスティバル2026の大阪会場で迷っている人向けに、&hellip\;
LOCATION:大阪府内各所
URL:https://osaka.local-navi.jp/event/64/
END:VEVENT
END:VCALENDAR
