BEGIN:VCALENDAR
VERSION:2.0
PRODID:-//Event Calendar//JP//
CALSCALE:GREGORIAN
BEGIN:VEVENT
UID:event-calendar-65@osaka.local-navi.jp
DTSTAMP:20260425T231115Z
DTSTART:20260429T010000Z
DTEND:20260506T080000Z
SUMMARY:【熱帯フルーツ展2026】子連れで4月29日から楽しむ咲くやこの花館の回り方
DESCRIPTION:【熱帯フルーツ展2026】咲くやこの花館でGWに試食ツアーを狙う子連れ攻略 咲くやこの花館の「熱帯フルーツ展2026」は、2026年4月29日から5月6日まで開&hellip\;
LOCATION:大阪市鶴見区緑地公園2-163
URL:https://osaka.local-navi.jp/event/65/
END:VEVENT
END:VCALENDAR
