BEGIN:VCALENDAR
VERSION:2.0
PRODID:-//Event Calendar//JP//
CALSCALE:GREGORIAN
BEGIN:VEVENT
UID:event-calendar-66@osaka.local-navi.jp
DTSTAMP:20260425T232222Z
DTSTART:20260430T150000Z
DTEND:20260506T145959Z
SUMMARY:【麦食音祭2026 5月1日から6日開催】万博ロスのGWに行く価値は？入園料と日別出店を整理
DESCRIPTION:【麦食音祭2026 〜アフターEXPO〜】万博ロスのGWに行く価値は？読み方・楽しみ方・万博公園入園料を解説 麦食音祭の読み方や、2026年に万博記念公園でどん&hellip\;
LOCATION:大阪府吹田市千里万博公園10-11
URL:https://osaka.local-navi.jp/event/66/
END:VEVENT
END:VCALENDAR
